BEGIN:VCALENDAR
VERSION:2.0
PRODID:-//2nd Level Studio - ECPv6.2.9//NONSGML v1.0//EN
CALSCALE:GREGORIAN
METHOD:PUBLISH
X-WR-CALNAME:2nd Level Studio
X-ORIGINAL-URL:https://secondlevelstudio.com
X-WR-CALDESC:Events for 2nd Level Studio
REFRESH-INTERVAL;VALUE=DURATION:PT1H
X-Robots-Tag:noindex
X-PUBLISHED-TTL:PT1H
BEGIN:VTIMEZONE
TZID:America/Los_Angeles
BEGIN:DAYLIGHT
TZOFFSETFROM:-0800
TZOFFSETTO:-0700
TZNAME:PDT
DTSTART:20240310T100000
END:DAYLIGHT
BEGIN:STANDARD
TZOFFSETFROM:-0700
TZOFFSETTO:-0800
TZNAME:PST
DTSTART:20241103T090000
END:STANDARD
END:VTIMEZONE
BEGIN:VEVENT
DTSTART;TZID=America/Los_Angeles:20240328T183000
DTEND;TZID=America/Los_Angeles:20240328T200000
DTSTAMP:20260422T150935
CREATED:20240328T174215Z
LAST-MODIFIED:20240328T174215Z
UID:984-1711650600-1711656000@secondlevelstudio.com
SUMMARY:A Course in Miracles Conversation Group
DESCRIPTION:A “book club” style conversation about the principles and practice of “A Course in Miracles”. In a spirit of curiosity and exploration. No prior experience is required. \nA Course In Miracles is a self-guided curriculum and daily meditation practice. The underlying premise of the Course is that the greatest miracle is “simply gaining a full awareness of love’s presence” in one’s life. \nThese conversations are facilitated by Jeffrey Berke\, based on 5 years’ daily practice in A Course in Miracles\, and are offered as a safe space to inquire\, explore\, and discover together. \nJoin us in person for deep\, meaningful conversations every Thursday at Second Level Studio.
URL:https://secondlevelstudio.com/events/a-course-in-miracles-conversation-group-7/
LOCATION:Second Level Studio\, 105 W. Gutierrez #A - 2nd Level\, Santa Barbara\, CA\, 93101\, United States
CATEGORIES:Spirituality
ATTACH;FMTTYPE=image/png:https://secondlevelstudio.com/wp-content/uploads/2024/02/3.png
END:VEVENT
BEGIN:VEVENT
DTSTART;TZID=America/Los_Angeles:20240331T190000
DTEND;TZID=America/Los_Angeles:20240331T204500
DTSTAMP:20260422T150935
CREATED:20240319T190500Z
LAST-MODIFIED:20240321T002621Z
UID:967-1711911600-1711917900@secondlevelstudio.com
SUMMARY:Cacao Ceremony
DESCRIPTION:Come enjoy a warm Ceremonial Cacao on Easter day and take on a Heart-opening journey.  \nI was seeking a way where it would be okay for me to be soft\, gentle and grounded; where my sensitivity and gifts would be safe to be expressed. Countless times I have found myself using force while my body was craving gentleness. I felt I needed to push more and more while my energy wanted grace and calm. When I least expected it\, I was gifted a very special ceremonial cacao so I could birth this nourishing experience and create a sacred space to return to. \nThe Cacao Spirit comes to me as an ancient tree with roots traveling through the Earth\, spreading wisdom and nutrients to all beings. She is a Mother who makes us feel we were never abandoned and that we have always been loved and cared for. \nHer medicine is warm\, supportive and deeply loving. It will open your heart with ease and compassion and will hold your hand while walking you through any blockages.  \nAs a host\, my intention is to honor this sacred medicine with humility and grace \nWear warm and cozy clothes
URL:https://secondlevelstudio.com/events/cacao-ceremony/
LOCATION:Second Level Studio\, 105 W. Gutierrez #A - 2nd Level\, Santa Barbara\, CA\, 93101\, United States
CATEGORIES:Spirituality
ATTACH;FMTTYPE=image/jpeg:https://secondlevelstudio.com/wp-content/uploads/2024/03/Cacaoflyer2ndLevel.jpg
ORGANIZER;CN="Marie-Pier Tremblay":MAILTO:artistofmyownlife@gmail.com
END:VEVENT
BEGIN:VEVENT
DTSTART;TZID=America/Los_Angeles:20240408T183000
DTEND;TZID=America/Los_Angeles:20240408T200000
DTSTAMP:20260422T150935
CREATED:20240325T223702Z
LAST-MODIFIED:20240325T223702Z
UID:980-1712601000-1712606400@secondlevelstudio.com
SUMMARY:Dharma Bummin'
DESCRIPTION:A Spiritual Salon… of sorts \nJoin Al Silva for open conversations about spirituality in all of its forms. Part dharma chat\, part Socratic dialogue — All Good. \nEvery session starts with a brief meditation and the establishing of conversation norms and guidelines. Al will bring a spiritual theme or topic to get things going\, and then will hold space for whatever else comes up. \nLet’s dive deep into the spirit streams and see where the flow takes us. Participants are encouraged to come with spiritual questions or concerns\, topics of interest or personal intentions — or just an open mind and an open heart. \nSuggested Donation  – $10
URL:https://secondlevelstudio.com/events/dharma-bummin-2/
LOCATION:Second Level Studio\, 105 W. Gutierrez #A - 2nd Level\, Santa Barbara\, CA\, 93101\, United States
CATEGORIES:Spirituality
ATTACH;FMTTYPE=image/png:https://secondlevelstudio.com/wp-content/uploads/2024/02/SLS-Event-TEMPLATE-10.png
END:VEVENT
BEGIN:VEVENT
DTSTART;TZID=America/Los_Angeles:20240411T183000
DTEND;TZID=America/Los_Angeles:20240411T200000
DTSTAMP:20260422T150935
CREATED:20240406T214652Z
LAST-MODIFIED:20240406T215238Z
UID:995-1712860200-1712865600@secondlevelstudio.com
SUMMARY:A Course in Miracles Conversation Group
DESCRIPTION:A “book club” style conversation about the principles and practice of “A Course in Miracles”. In a spirit of curiosity and exploration. No prior experience is required. \nA Course In Miracles is a self-guided curriculum and daily meditation practice. The underlying premise of the Course is that the greatest miracle is “simply gaining a full awareness of love’s presence” in one’s life. \nThese conversations are facilitated by Jeffrey Berke\, based on 5 years’ daily practice in A Course in Miracles\, and are offered as a safe space to inquire\, explore\, and discover together. \nJoin us in person for deep\, meaningful conversations every Thursday at Second Level Studio.
URL:https://secondlevelstudio.com/events/a-course-in-miracles-conversation-group-8/
LOCATION:Second Level Studio\, 105 W. Gutierrez #A - 2nd Level\, Santa Barbara\, CA\, 93101\, United States
CATEGORIES:Spirituality
ATTACH;FMTTYPE=image/png:https://secondlevelstudio.com/wp-content/uploads/2024/02/3.png
END:VEVENT
END:VCALENDAR