BEGIN:VCALENDAR
VERSION:2.0
PRODID:-//2nd Level Studio - ECPv6.2.9//NONSGML v1.0//EN
CALSCALE:GREGORIAN
METHOD:PUBLISH
X-ORIGINAL-URL:https://secondlevelstudio.com
X-WR-CALDESC:Events for 2nd Level Studio
REFRESH-INTERVAL;VALUE=DURATION:PT1H
X-Robots-Tag:noindex
X-PUBLISHED-TTL:PT1H
BEGIN:VTIMEZONE
TZID:America/Los_Angeles
BEGIN:DAYLIGHT
TZOFFSETFROM:-0800
TZOFFSETTO:-0700
TZNAME:PDT
DTSTART:20240310T100000
END:DAYLIGHT
BEGIN:STANDARD
TZOFFSETFROM:-0700
TZOFFSETTO:-0800
TZNAME:PST
DTSTART:20241103T090000
END:STANDARD
END:VTIMEZONE
BEGIN:VEVENT
DTSTART;TZID=America/Los_Angeles:20240106T130000
DTEND;TZID=America/Los_Angeles:20240106T160000
DTSTAMP:20260422T130545
CREATED:20231227T224340Z
LAST-MODIFIED:20240101T200004Z
UID:790-1704546000-1704556800@secondlevelstudio.com
SUMMARY:Human Design Readings with Auna
DESCRIPTION:Are you aware of the fact that what makes you “different” is actually your greatest asset and a gift to others? Would you like to find out what that gift is all about? \nHuman Design is a practical system for self-discovery that exposes what sets you apart and reveals the gold of living as your true self. Your birth chart shows how your personal energy functions and the best way for you to make aligned choices that lead to inner harmony\, fulfilling connections and a rewarding life expressing your unique essence! \nAuna Salomé is an intuitive guide who has been praised for the clarity of her Human Design readings and her focus on elevating consciousness\, as well her ability to offer action steps and effective tools that activate forward momentum in your life.\nTo book your 30mn Human Design reading click here.\nTo learn more about Human Design\, go here.
URL:https://secondlevelstudio.com/events/human-design-readings-with-auna/
LOCATION:Second Level Studio\, 105 W. Gutierrez #A - 2nd Level\, Santa Barbara\, CA\, 93101\, United States
CATEGORIES:Spirituality
ATTACH;FMTTYPE=image/png:https://secondlevelstudio.com/wp-content/uploads/2023/12/SLS-Event-TEMPLATE-1.png
END:VEVENT
END:VCALENDAR