BEGIN:VCALENDAR
VERSION:2.0
PRODID:-//2nd Level Studio - ECPv6.2.9//NONSGML v1.0//EN
CALSCALE:GREGORIAN
METHOD:PUBLISH
X-WR-CALNAME:2nd Level Studio
X-ORIGINAL-URL:https://secondlevelstudio.com
X-WR-CALDESC:Events for 2nd Level Studio
REFRESH-INTERVAL;VALUE=DURATION:PT1H
X-Robots-Tag:noindex
X-PUBLISHED-TTL:PT1H
BEGIN:VTIMEZONE
TZID:America/Los_Angeles
BEGIN:DAYLIGHT
TZOFFSETFROM:-0800
TZOFFSETTO:-0700
TZNAME:PDT
DTSTART:20240310T100000
END:DAYLIGHT
BEGIN:STANDARD
TZOFFSETFROM:-0700
TZOFFSETTO:-0800
TZNAME:PST
DTSTART:20241103T090000
END:STANDARD
END:VTIMEZONE
BEGIN:VEVENT
DTSTART;TZID=America/Los_Angeles:20240106T130000
DTEND;TZID=America/Los_Angeles:20240106T160000
DTSTAMP:20260422T112313
CREATED:20231227T224340Z
LAST-MODIFIED:20240101T200004Z
UID:790-1704546000-1704556800@secondlevelstudio.com
SUMMARY:Human Design Readings with Auna
DESCRIPTION:Are you aware of the fact that what makes you “different” is actually your greatest asset and a gift to others? Would you like to find out what that gift is all about? \nHuman Design is a practical system for self-discovery that exposes what sets you apart and reveals the gold of living as your true self. Your birth chart shows how your personal energy functions and the best way for you to make aligned choices that lead to inner harmony\, fulfilling connections and a rewarding life expressing your unique essence! \nAuna Salomé is an intuitive guide who has been praised for the clarity of her Human Design readings and her focus on elevating consciousness\, as well her ability to offer action steps and effective tools that activate forward momentum in your life.\nTo book your 30mn Human Design reading click here.\nTo learn more about Human Design\, go here.
URL:https://secondlevelstudio.com/events/human-design-readings-with-auna/
LOCATION:Second Level Studio\, 105 W. Gutierrez #A - 2nd Level\, Santa Barbara\, CA\, 93101\, United States
CATEGORIES:Spirituality
ATTACH;FMTTYPE=image/png:https://secondlevelstudio.com/wp-content/uploads/2023/12/SLS-Event-TEMPLATE-1.png
END:VEVENT
BEGIN:VEVENT
DTSTART;TZID=America/Los_Angeles:20240111T183000
DTEND;TZID=America/Los_Angeles:20240111T200000
DTSTAMP:20260422T112313
CREATED:20231227T223950Z
LAST-MODIFIED:20240102T220335Z
UID:783-1704997800-1705003200@secondlevelstudio.com
SUMMARY:A Course in Miracles Conversation Group
DESCRIPTION:A “book club” style conversation about the principles and practice of “A Course in Miracles”. In a spirit of curiosity and exploration. No prior experience is required. \nA Course In Miracles is a self-guided curriculum and daily meditation practice. The underlying premise of the Course is that the greatest miracle is “simply gaining a full awareness of love’s presence” in one’s life. \nThese conversations are facilitated by Jeffrey Berke\, based on 5 years’ daily practice in A Course in Miracles\, and are offered as a safe space to inquire\, explore\, and discover together. \nJoin us in person for deep\, meaningful conversations every other Thursday at Second Level Studio.
URL:https://secondlevelstudio.com/events/a-course-in-miracles-conversation-group/
LOCATION:Second Level Studio\, 105 W. Gutierrez #A - 2nd Level\, Santa Barbara\, CA\, 93101\, United States
CATEGORIES:Spirituality
ATTACH;FMTTYPE=image/png:https://secondlevelstudio.com/wp-content/uploads/2024/01/SLS-Event-TEMPLATE-2.png
END:VEVENT
BEGIN:VEVENT
DTSTART;TZID=America/Los_Angeles:20240120T130000
DTEND;TZID=America/Los_Angeles:20240120T160000
DTSTAMP:20260422T112313
CREATED:20231227T224409Z
LAST-MODIFIED:20240101T195910Z
UID:793-1705755600-1705766400@secondlevelstudio.com
SUMMARY:Human Design Readings with Auna
DESCRIPTION:Are you aware of the fact that what makes you “different” is actually your greatest asset and a gift to others? Would you like to find out what that gift is all about? \nHuman Design is a practical system for self-discovery that exposes what sets you apart and reveals the gold of living as your true self. Your birth chart shows how your personal energy functions and the best way for you to make aligned choices that lead to inner harmony\, fulfilling connections and a rewarding life expressing your unique essence! \nAuna Salomé is an intuitive guide who has been praised for the clarity of her Human Design readings and her focus on elevating consciousness\, as well her ability to offer action steps and effective tools that activate forward momentum in your life.\nTo book your 30mn Human Design reading click here.\nTo learn more about Human Design\, go here.
URL:https://secondlevelstudio.com/events/human-design-readings-with-auna-2/
LOCATION:Second Level Studio\, 105 W. Gutierrez #A - 2nd Level\, Santa Barbara\, CA\, 93101\, United States
CATEGORIES:Spirituality
ATTACH;FMTTYPE=image/png:https://secondlevelstudio.com/wp-content/uploads/2023/12/SLS-Event-TEMPLATE-1.png
END:VEVENT
BEGIN:VEVENT
DTSTART;TZID=America/Los_Angeles:20240125T183000
DTEND;TZID=America/Los_Angeles:20240125T200000
DTSTAMP:20260422T112313
CREATED:20240102T220047Z
LAST-MODIFIED:20240104T174942Z
UID:812-1706207400-1706212800@secondlevelstudio.com
SUMMARY:A Course in Miracles Conversation Group
DESCRIPTION:A “book club” style conversation about the principles and practice of “A Course in Miracles”. In a spirit of curiosity and exploration. No prior experience is required. \nA Course In Miracles is a self-guided curriculum and daily meditation practice. The underlying premise of the Course is that the greatest miracle is “simply gaining a full awareness of love’s presence” in one’s life. \nThese conversations are facilitated by Jeffrey Berke\, based on 5 years’ daily practice in A Course in Miracles\, and are offered as a safe space to inquire\, explore\, and discover together. \nJoin us in person for deep\, meaningful conversations every other Thursday at Second Level Studio.
URL:https://secondlevelstudio.com/events/a-course-in-miracles-conversation-group-3/
LOCATION:Second Level Studio\, 105 W. Gutierrez #A - 2nd Level\, Santa Barbara\, CA\, 93101\, United States
CATEGORIES:Spirituality
ATTACH;FMTTYPE=image/png:https://secondlevelstudio.com/wp-content/uploads/2024/01/SLS-Event-TEMPLATE-2.png
END:VEVENT
BEGIN:VEVENT
DTSTART;TZID=America/Los_Angeles:20240126T180000
DTEND;TZID=America/Los_Angeles:20240126T200000
DTSTAMP:20260422T112313
CREATED:20240103T001443Z
LAST-MODIFIED:20240115T234412Z
UID:823-1706292000-1706299200@secondlevelstudio.com
SUMMARY:Full Moon Women's Circle
DESCRIPTION:Join us for a beautiful evening of connection with open-hearted women.\nThis is a safe space to share\, connect and heal through empowering stories and connections.  In these gatherings\, we connect to the divine being within us all and allow ourselves to be fully seen. \nWhat is a Women’s Circle? \nThe Circle is a spiritual gathering that gives you access to your authentic self\, your power and your bravery. Circling gives women the chance to be seen\, to be vulnerable to let it all hang out. Each of us in the circle becomes stronger from being seen and heard. \nWe laugh\, we cry\, we let go. \nEvery circle is a sacred\, soft place to land. \nWe use the power of meditation\, sacred conversation and deep listening to become more alive and more present to the beauty in life. \nWe will write down the things we no longer wish to carry with us into the future and burn them as a group. \n**Please wear comfortable clothing\, we will sit on the floor in a circle. You are welcome to bring a journal if you like but we will have supplies for everyone also. \n\n“Amber is amazing and her women’s circle has given me a sense of community and connection at a time that I really needed it. Every time I go\, I end up tearing up at some point because of something I hear that resonates with me. I am so appreciative of this group!” – Circle participant \n“The women’s circle has inspired me so much in the past few months. It’s hard to miss coming because I feel I learn so much from all the women\, it is therapeutic and transformative. The music\, the dance\, the journaling\, the sharing…Amber has created the perfect storm to bring you back to yourself and truly connect. I feel blessed to be part of it” – Marie-Pier \n“There is such power in women coming together and supporting and holding space for one another. Amber’s circle has been so nurturing and uplifting and I can’t recommend it enough. It’s a beautiful community with incredible people. Highly recommend!” – Kristine
URL:https://secondlevelstudio.com/events/full-moon-womens-circle/
LOCATION:Second Level Studio\, 105 W. Gutierrez #A - 2nd Level\, Santa Barbara\, CA\, 93101\, United States
CATEGORIES:Spirituality
ATTACH;FMTTYPE=image/png:https://secondlevelstudio.com/wp-content/uploads/2024/01/SLS-Event-TEMPLATE-4.png
END:VEVENT
END:VCALENDAR